BEGIN:VCALENDAR
VERSION:2.0
PRODID:-//Joanna Jucha - ECPv5.16.4//NONSGML v1.0//EN
CALSCALE:GREGORIAN
METHOD:PUBLISH
X-WR-CALNAME:Joanna Jucha
X-ORIGINAL-URL:https://joannajucha.pl
X-WR-CALDESC:Events for Joanna Jucha
REFRESH-INTERVAL;VALUE=DURATION:PT1H
X-Robots-Tag:noindex
X-PUBLISHED-TTL:PT1H
BEGIN:VTIMEZONE
TZID:Europe/Warsaw
BEGIN:DAYLIGHT
TZOFFSETFROM:+0100
TZOFFSETTO:+0200
TZNAME:CEST
DTSTART:20250330T010000
END:DAYLIGHT
BEGIN:STANDARD
TZOFFSETFROM:+0200
TZOFFSETTO:+0100
TZNAME:CET
DTSTART:20251026T010000
END:STANDARD
END:VTIMEZONE
BEGIN:VEVENT
DTSTART;VALUE=DATE:20250308
DTEND;VALUE=DATE:20250309
DTSTAMP:20260420T152037
CREATED:20240212T105337Z
LAST-MODIFIED:20250223T171026Z
UID:4069-1741392000-1741478399@joannajucha.pl
SUMMARY:Jednodniowe Warsztaty Jogi w Willi Tadeusz
DESCRIPTION:W Dzień Kobiet – 8 marca – zapraszam na jednodniowy warsztat Jogi w Willi Tadeusz. Będzie to warsztat szczególny\, ponieważ będziecie mieli możliwość praktykować na porannej sesji Jogę metodę Iyengara i po obiedzie Jogę Powięziową.  Chciałabym\, aby ten warsztat był czasem\, w którym możecie zadać pytania\, rozwiać swoje wątpliwości dotyczące techniki wykonywania asan lub po prostu poznać dobrodziejstwo jogi. Nasza praktyka Jogi będzie nastawiona na regenerację\, będziemy praktykować w oparciu o wiedzę o zdrowych zakresach ruchu\, z pracą z oddechem\, z budowaniem świadomości ciała i spokoju w głowie. Popołudniowe zajęcia poprowadzi dla Was wspaniała krakowska nauczycielka Edyta Piotrowska. Na Jodze Powięziowej skoncentrujecie się na rozluźnianiu tkanki otaczającej mięśnie. Dzięki takiemu połączeniu wyjedziecie z Lanckorony zregenerowani i w pełni sił. \nW czasie przerwy będziecie mieli czas na spacer wokół lanckorońskiego wzgórza i kawę w Tadeuszowym ogrodzie lub ogrzanie się przy kominku w jadalni. Zapraszam! \nCena:\nKoszt warsztatu wraz z wyżywieniem wynosi 250 zł. \nData:\n8 marca \nWyżywienie:\nPomiędzy sesjami jogi na uczestników warsztatu czeka wegetariański obiad z deserem i przerwa na spacer po Lanckoronie. \nHarmonogram:\n11.30 – spotkanie organizacyjne \n11.45 -13.30 Joga z Joanną Juchą \n13.30 – obiad \n15.30-17.00 – Joga Powięziowa z Edytą Piotrowską \nRezerwacja miejsc :\nAby zarezerwować miejsce \, po uprzednim potwierdzeniu dostępności miejsc\, proszę o wpłatę zadatku w wysokości 100 zł na konto: 36 1020 1433 00001202 0180 9706 z dopiskiem: „Nazwisko-Joga 8 marca”. Gdybyście chcieli otrzymać ode mnie fakturę za zajęcia\, proszę\, napiszcie to zanim wpłacicie zadatek.  W innym wypadku od razu po otrzymaniu przelewu wystawiam paragon i nie mogę wystawić już faktury. Zadatek jest bezzwrotny. \nZapraszam do rozmowy oraz rezerwacji miejsc mailowo: jucha.joa@gmail.com lub telefonicznie: 604850966. \nGaleria:\n 
URL:https://joannajucha.pl/event/jednodniowe-warsztaty-jogi-5/
LOCATION:willa tadeusz\, Legionistów 1\, Lanckorona\, Małopolskie\, 34-143\, Poland
CATEGORIES:Warsztaty
ATTACH;FMTTYPE=image/jpeg:https://joannajucha.pl/wp-content/uploads/2022/12/Projekt-bez-tytulu-13.jpg
END:VEVENT
BEGIN:VEVENT
DTSTART;VALUE=DATE:20250308
DTEND;VALUE=DATE:20250320
DTSTAMP:20260420T152037
CREATED:20251003T123535Z
LAST-MODIFIED:20260302T203317Z
UID:4452-1741392000-1742428799@joannajucha.pl
SUMMARY:Joga na Sri Lance - BRAK MIEJSC
DESCRIPTION:Sri Lanka oznacza w sanskrycie „olśniewający kraj”. To wyspa wielkości ⅕ Polski\, która mieści w sobie świat pełen zachwycającej natury. Zaczniemy naszą podróż od głębi wyspy\, aby poczuć zapach cynamonu\, wanilii i pieprzu\, przejechać pociągiem przez plantacje w  Nuwara Eliya\, skosztować słynnej cejlońskiej herbaty\, zobaczyć dzikie słonie i Lwią Skałę. Będzie to wyprawa podzielona na dwie części. W pierwszej będziemy praktykować Jogę i zwiedzać wyspę\, aby w drugiej części podróży osiąść już nad Oceanem Indyjskim i przez 4 dni cieszyć się rajską plażą oraz poranną i wieczorną praktyką Jogi. \n\n\n\n\nNasza praktyka Jogi będzie nastawiona na regenerację\, będziemy praktykować Jogę wg metody Iyengara. Spokojnie\,  w oparciu o wiedzę o zdrowych zakresach ruchu\, z pracą z oddechem\, z budowaniem świadomości ciała i spokoju w głowie. Tę wyprawę z Jogą przygotowałam we współpracy z Marcinem Szopą i jego biurem AT Animator\, z którym odbyliście naszą pierwszą jogową podróż do Azji z trekkingiem do Annapurna Base Camp. Marcin zadbał o stworzenie dla nas programu\, który pozwoli nam poznać Sri Lankę\, a ja zadbałam o to\, abyśmy w Bentocie\, nad oceanem mieli na pewno dostęp do sali do Jogi i warunki by ta praktyka Jogi miała swoje ważne miejsce na tym wyjeździe. Ani Joga ani zwiedzanie wyspy nie będą tu “przy okazji”. Ten wyjazd ma zaspokoić nasze podróżnicze łaknienie i potrzebę codziennej\, mądrej praktyki Jogi w wyjątkowym miejscu.  \n\n\n\nCena:\n\n2385 USD + 2985 PLN Bilet Lotniczy \nŚwiadczenia: \n\n\nZajęcia Jogi\nNoclegi – zakwaterowanie w pokoju dwuosobowym (dopłata do pokoju 1 os – 645 USD)\nPosiłki na bazie HB (śniadania i obiadokolacje)\nRealizacja programu zwiedzania\nTransport komfortowym\, klimatyzowanym autokarem\nAngielskojęzyczny przewodnik lokalny\nPilot-Przewodnik z Polski\nUbezpieczanie Turystyczne + TFG\, PFG\n\nCena nie zawiera opłaty za wstępy – 145 USD \n\nData:\n1-12 marca 2026 \nPlan podróży:\nDzień 1:\nSpotkanie na lotnisku. Wylot na Sri Lankę (Colombo). \nDzień 2\nPrzylot do Kolombo. Przejazd do Dambulla. Położona w centrum trójkąta kulturowego Sri Lanki jest doskonałą bazą wypadową do zwiedzania historycznych miast tego regionu. \n\n   Kolacja\n   Kraków – Colombo\n   Popołudniowe zajęcia – 1 godz.\n\nDzień 3\nTwierdza Sigiriya Rock. Sirigiya nazywana popularnie Lwią Skałą\, to jedna z najczęściej odwiedzanych atrakcji turystycznych na Sri Lance. Widoczna z daleka\, prawie 200 metrowej wysokości\, magmowa skała\, na szczycie której znajdują się pozostałości mitycznego pałacu. \nPopołudniu Minneriya Jeep Safari. Zwiedzanie Parku Narodowego Minneriya odbywa się w specjalnie przygotowanych do obserwacji zwierząt samochodach 4×4. Przejeżdżając przez park\, zobaczyć można między innymi słonie\, jelenie\, a także będące odmianą jelenia sambary\, zaś przy odrobinie szczęścia drogę przekroczy szukający pożywienia lampart. Występują tutaj również langury\, czyli jeden z rzadkich gatunków małpy. Bogate królestwo ptaków rokrocznie przyciąga tu wielu pasjonatów ornitologii. \n   Śniadanie i kolacja\n   Popołudniowe zajęcia – 1 godz.\nDzień 4\nŚwiątynie w Dambulla. Kompleks świątyń w jaskiniach w Dambulla to jedno z najważniejszych miejsc dla buddystów na Sri Lance. Świątynie znajdujące się w pięciu skalnych grotach były sukcesywnie rozbudowywane i odnawiane\, począwszy od I w. p.n.e. aż do XVIII w. n.e. Na obecny kompleks świątynny w Dambulla składa się 5 jaskiń\, w których znajdują się liczne przedstawienia Buddy\, zarówno posągi\, jak i malowidła naskalne. \nPrzejazd do Matale i dalej do Kandy. Ogród Przypraw Matale. Zapraszamy do aromatycznego świata lankijskich przypraw\, z których słynie region Matale. W trakcie wizyty w ogrodzie będziecie spacerować pośród pachnącej zieleni\, oglądając gałkę muszkatołową\, pieprz\, aloes\, goździki\, wanilię\, cynamon\, kakao\, kurkumę i inne popularne zioła. Odwiedzający mogą nabywać przyprawy\, tradycyjne środki higieniczne i kosmetyki oraz spróbować ziołowych naparów. \n\n   Śniadanie i kolacja\n   Popołudniowe zajęcia – 1 godz.\n\nDzień 5\nWizyta w Świątyni Relikwii Zęba oraz Zwiedzanie Kandy. Świątynia Zęba w Kandy jest częścią kompleksu pałacowego zamieszkiwanego przez kolejnych władców Królestwa Kandy i powstała w 1595 roku jako specjalne miejsce dla najświętszej relikwii\, oznaki najwyższej władzy królewskiej. Do dzisiaj stanowi najważniejsze miejsce pielgrzymek wyznawców buddyzmu i jedno z najczęściej odwiedzanych przez turystów miejsc na Sri lance. \n   Śniadanie i kolacja\n   Popołudniowe zajęcia – 1 godz.\nDzień 6\nPrzejazd pociągiem. Trasa kolejowa z Kandy do Nanu Oya należy do najpiękniejszych na świecie. Wyróżnia się bogactwem i różnorodnością krajobrazów – od gór i wodospadów po plantacje herbaty. \nNuwara-Eliya. Popołudniowe zwiedzanie miasta i wizyta na plantacji herbaty. O regionie zwanym Tea Country mówi się\, że gdzie by nie spojrzeć\, tam zobaczy się plantacje herbaty. Nie bez kozery Brytyjczycy szczególnie umiłowali sobie to miejsce. Stolicą regionu jest miasteczko Nuwara Eliya\, zlokalizowane w odległości około 3 godzin jazdy od miasta Kandy. Jest położone bardzo malowniczo: wokół jeziora na zielonych wzgórzach. Jego wysokość względna to od 600 do 1893 m n.p.m. Miejsce to uchodzi za najchłodniejsze na wyspie\, co ma swoje odzwierciedlenie w pogodzie\, która gwarantuje umiarkowane zachmurzenie. \n   Śniadanie i kolacja\n   Popołudniowe zajęcia – 1 godz.\nDzień 7\nPrzejazd na wybrzeże. Czas na zasłużony odpoczynek. \nDzień 8-10\nPobyt w ośrodku na wybrzeżu. \n   Śniadanie i kolacja\n  Poranne zajęcia – 1\,5 godz. i  popołudniowe zajęcia – 1\,5 godz.\nDzień 11-12\nPrzejazd do Colombo. Zwiedzanie miasta\, czas na zakupy. Przejazd na lotnisko i wylot do Kraju. \nRezerwacja miejsc:\nZapraszam do rozmowy oraz rezerwacji miejsc mailowo: jucha.joa@gmail.com lub telefonicznie: 604850966. \nOrganizatorem wyprawy jest biuro podróży AT Animator. Aby otrzymać więcej informacji o organizatorze kliknij tutaj: https://animator.at/oferta/srilanka-joga \nGaleria
URL:https://joannajucha.pl/event/srilanka/
LOCATION:Tenuta Casabianca\, Str. di Gonfienti 84\, Murlo\, 53016\, Italy
CATEGORIES:Warsztaty
ATTACH;FMTTYPE=image/jpeg:https://joannajucha.pl/wp-content/uploads/2023/12/Projekt-bez-nazwy-137.jpg
END:VEVENT
BEGIN:VEVENT
DTSTART;VALUE=DATE:20250321
DTEND;VALUE=DATE:20250322
DTSTAMP:20260420T152037
CREATED:20231119T150211Z
LAST-MODIFIED:20250223T171403Z
UID:3962-1742515200-1742601599@joannajucha.pl
SUMMARY:Jednodniowe Warsztaty Jogi w Dworze Lanckorona
DESCRIPTION:W marcu wyjątkowo w piątek\, 21 marca\, zapraszam na Jednodniowe Warsztaty Jogi w Dworze Lanckorona. Zapraszam zarówno osoby początkujące\, jak i te bardziej zaawansowane. Będziemy praktykować w kameralnej grupie\, dlatego możliwa będzie korekta każdego uczestnika. Chciałabym\, aby ten warsztat był czasem w którym możecie zadać pytania\, rozwiać swoje wątpliwości dotyczące techniki wykonywania asan lub po prostu poznać dobrodziejstwo jogi. \nPomiędzy sesjami jogi na uczestników warsztatu czeka obiad z deserem (doskonała kuchnia Pani Dagmary to jeden z powodów dla którego najczęściej wracacie do Dworu Lanckorona)  i przerwa na spacer po Lanckoronie. \n\nCena:\nKoszt warsztatu wraz z wyżywieniem wynosi 250 zł.  \nData:\n21 marca \nWyżywienie:\nPomiędzy sesjami jogi na uczestników warsztatu czeka wegetariański obiad z deserem. \nHarmonogram:\n12.00 – spotkanie organizacyjne \n12.15 do 13.45 Joga regeneracyjna \n13.45 obiad \n15.30- 17.30 Joga – praktyka warsztatowa wraz z pogłębioną relaksacją \nRezerwacja miejsc :\nAby zarezerwować miejsce \, po uprzednim potwierdzeniu dostępności miejsc\, proszę o wpłatę zadatku w wysokości 100 zł na konto: 36 1020 1433 00001202 0180 9706 z dopiskiem: „Nazwisko-Joga 21 marca”.  Zadatek jest bezzwrotny. \nZapraszam do rozmowy oraz rezerwacji miejsc mailowo: jucha.joa@gmail.com lub telefonicznie: 604850966. \n\nGaleria:\n 
URL:https://joannajucha.pl/event/jednodniowe-warsztaty-jogi/
LOCATION:Dwór Lankorona\, Kazimierza Wielkiego 7\, Lanckorona\, Małopolska\, 34-143\, Poland
CATEGORIES:Warsztaty
ATTACH;FMTTYPE=image/jpeg:https://joannajucha.pl/wp-content/uploads/2022/09/Projekt-bez-tytulu-4.jpg
END:VEVENT
BEGIN:VEVENT
DTSTART;VALUE=DATE:20250327
DTEND;VALUE=DATE:20250409
DTSTAMP:20260420T152037
CREATED:20241029T130942Z
LAST-MODIFIED:20241029T133057Z
UID:4214-1743033600-1744156799@joannajucha.pl
SUMMARY:Annapurna Base Camp - Joga i trekking w Nepalu
DESCRIPTION: \nPrzygotuj się na niezapomnianą wyprawę z Jogą do serca Himalajów\, gdzie majestatyczne szczyty\, malownicze wioski i dzika przyroda czekają na odkrycie.\n\n\n\nChcemy\, abyście w tym połączeniu odnaleźli to\, co zachwyciło nas: piękno gór i spokój\, który przynoszą otaczające szczyty razem ze świadomą pracą z ciałem i oddechem\, którą daje Joga i uważnością na siebie. Jeśli gdzieś można oddychać pełną piersią to właśnie na Jodze w Himalajach. Nasza podróż do Nepalu to nie tylko trekking wśród najwyższych gór świata\, ale również wyjątkowa okazja\, by zanurzyć się w bogatej kulturze i tradycjach tego fascynującego kraju. Od tętniących życiem ulic Katmandu\, przez ekscytujący rafting na rzece Trisuli\, po dotarcie do bazy pod Annapurną – każda chwila tej wyprawy będzie wypełniona emocjami i pięknymi widokami. \n\n\n\n\nDlaczego Joga i trekking?\nPodczas górskiego trekkingu pracujemy jednostajnie bardzo konkretną grupą mięśni\, które wspaniale się wzmacniają\, ale zazwyczaj nie mamy już miejsca na to\, aby tym spracowanym wędrówką mięśniom dać rozluźnienie i je uelastycznić. \nJoga daje doskonałe narzędzia\, aby zrównoważyć tę pracę i zmniejszyć „zakwasy”. Nasz plan zakłada poranne przygotowanie ciała do wędrówki i popołudniowe asany uelastyczniające i regenerujące\, abyście kolejnego dnia obudzili się w pełni sił. Tutaj Joga będzie równoważyła nasz trekking\, ale jest też aspekt równie ważny\, o ile nie ważniejszy\, którym będzie znalezienie spokoju w głowie i ukojenia dla naszego układu nerwowego. \nJoga i trekking w Nepalu będą się dopełniać. Będziemy szukać tego spokoju z szacunkiem do swojego ciała i swoich możliwości w miejscu\, gdzie najlepiej można wyrazić szacunek do gór i otaczającej natury. Będziemy szukać bez ezoteryki\, nie będę Waszym przewodnikiem duchowym\, to nie ten warsztat i nie ten rodzaj Jogi. Chcę aby Joga nauczyła Was uważności na siebie i dała narzędzia do pracy z ciałem i oddechem. Aby pozwoliła Wam się zatrzymać i odetchnąć. \n\nCena:\nCena wyprawy to 2650 USD plus bilet lotniczy (około 4450 zł) \n\nCena zawiera: \n\nzakwaterowanie w Hotelu w Pokharze i w Katmandu\,\nzakwaterowanie w teahouseach podczas trekkingu\,\ntransport lądowy i transfery\,\nprzelot na trasie Pokhara – Katmandu\,\nobsługę tragarzy i przewodnika nepalskiego podczas trekkingu\,\nobsługę pilota z Polski\,\nopłaty za wejście do Parku i opłaty trekkingowe\,\nudział w zajęciach jogi zgodnie z programem\nudziału w raftingu\,\nrealizacja program zwiedzania\,\nubezpieczenie\,\nTFG i PFG\,\n\nCena nie zawiera:  \n\nopłaty za bilet lotniczy do i z Katmandu (około 4.450 PLN)\,\nkosztów wyżywienia\,\nwizy nepalskiej\,\nnapiwków dla przewodników i tragarzy.\n\n\nData:\n27 marca – 8 kwietnia \nProgram:\nDzień 1 – Wylot do Katmandu\nSpotkanie na lotnisku w Warszawie. Odprawa bagażowo-paszportowa. Wylot do Katmandu. \nDzień 2 – Katmandu.\nPo przylocie tradycyjne powitanie uczestników przez przewodników\, którzy przez najbliższe dni będą się nami opiekować na trasie do ABC. \nTransfer do Hotelu. Wieczorny spacer po tętniącym życiem\, barwnym i pełnym uroku Thamelu. To tutaj\, w miejscu pełnym lokalnego kolorytu i mieszanki kultur całego świata spotykają się turyści pragnący przeżyć wyprawę marzeń. \nZajęcia Jogi: nasza pierwsza\, wieczorna sesja\, która potrwa 90 minut odbędzie się w przestrzennej\, tradycyjnej sali do Jogi w Avata Center w Katmandu. \nUwaga: w większość trekkingowych dni\, poza zajęciami Jogi wyszczególnionymi w programie czeka nas krótka\, rozciągająca i regenerująca sesja asan. Plan zajęć Jogi\, będziemy musieli dostosować do czasu naszego trekkingu\, który w zależności od pogody i naszych możliwości\, może ulec zmianie\, dlatego podczas dni trekkingowych prawdopodobne są zmiany w programie.  \n\n Transfer do Hotelu\n Przelot Warszawa – Doha – Katmandu\n\n\n\nDzień 3 – Przejazd z Katmandu do Pokhary. Rafting na rzece Tishuli.\nPrzejazd z Katmandu do Pokhary. Podczas przejazdu będziemy mieli wyjątkową okazję zobaczyć\, jak żyją Nepalczycy poza Katmandu. Malownicze wioski i zapierające dech w piersiach widoki to tylko część tego co w tym dniu przeżyjemy! zaproponujemy jeszcze bowiem 3 godziny pełnego emocji rafingu na górskiej rzece Trisuli. \nPóźnym popołudniem dotrzemy do Pokhary. Przespacerujemy się po urokliwej\, leżącej nad wodami jeziora Phewa u stóp masywu Annapurny\, Pokarze. \nZajęcia Jogi: poranna\, krótsza sesja asan. \n\n Śniadanie w hotelu\n Przejazd z Katmandu – Pokhara\n\n\n\nDzień 4 – Przejazd z Pokhary do Ghandruk. Trekking do Chomrong (1951m).\nWczesnym rankiem przejazd do Ghandruk – miejsce rozpoczęcia trekkingu. Pierwszy odcinek naszej trasy biegnący między polami i poprzez malownicze wioski doprowadzi nas na nocleg do Chomrong. Podejścia w tym dniu nagrodzone będą niesamowitym widokiem na otaczające dolinę himalajskie szczyty. \nZajęcia Jogi: popołudniowa sesja uelastyczniająca po trekkingu \n\n Trekking do Chomrong\n Przejazd z Pokhary do Ghandruk\n\n\n\nDzień 5 – Trekking z Chomrong do Himalaya Hotel (2920m).\nTrasa trekkingu w tym dniu poprowadzi wzdłuż doliny. Będziemy mogli oderwać na chwilę wzrok od niesamowitych gór\, kierując go na pełen kolorów i życia las. \nZajęcia Jogi: poranna rozgrzewająca sesja \nDzień 6 – Trekking z Himalaya do Annapurna Base Camp (4130m)\nTego dnia opuszczać będziemy zieloną dolinę a krajobraz będzie stawał się coraz bardziej surowy. Naszym celem jest Baza Główna pod Annapurną. Miejsce leżące u stóp monumentalnej ściany ośmiotysięcznika zapewnia wyjątkowe i niezapomniane doznania. \n\n Trekking Chomrong – Himalaya Hotel – Annapurna Base Camp\n\n\nDzień 7 – Trekking z Annapurna Base Camp (4130m) do Bamboo (2300m)\nWczesną pobudkę tego dnia zrekompensuje nam widok na wschód słońca nad Annapurną. Zaraz po wschodzie słońca czeka na nas dynamiczna\, poranna praktyka Jogi – Powitań Słońca. Po śniadaniu rozpoczniemy zejście do położonego blisko dwa tysiące merów niżej Bamboo. \nZajęcia Jogi: poranna sesja \nDzień 8 – Trekking z Bamboo (2300m) do Jhinu Danda (1780m)\nKontynuując zejście na trasie będziemy mijać lasy rododendronowe\, które w okresie swojego zakwitu dopełniają swoim kolorytem niepowtarzalny widok okolicznych gór. Na koniec dnia odprężymy się po trekkingu w gorących źródłach. \nZajęcia Jogi: popołudniowa \, regenerująca sesja w Jhinu Danda. \n\n Trekking Annapurna Base Camp – Bamboo – Jhinu Danda\n\n\n\n\nDzień 9 – Trekking Jhinu Danda (1780m) – Pothana (1700m).\nTrekking z Jhinu Danda do Pothana. \nDzień 10 – Pothana – Phedi – Pokhara\nTego dnia docieramy do Phedi\, miejsca zakończenia trekkingu ale nie naszej nepalskiej przygody. Przed nami przejazd do Pokhary\, zajęcia Jogi w centrum Purna Yoga i nocleg. Następnego dnia czeka nas jeszcze fascynujący przelot do Katmandu\, podczas którego obserwować będziemy ośnieżone szczyty Himalajów. \nZajęcia Jogi: wieczorna sesja w Purna Yoga\, w przeszklonej sali ze wspaniałym widokiem na jezioro Phewa Tal \n\n Trekking Jhinu Danda – Pothana – Phedi\n Przejazd z Phedi do Pokhara\n\n\n\nDzień 11 – Przelot z Pokhary do Katmandu.\nPo śniadaniu przelot z Pokhary do Katmandu. Zakwaterowanie w hotelu. Joga i czas wolny na zakupy w Katmandu. \nZajęcia Jogi: popołudniowa sesja jogi w Avata Center z lokalnym nauczycielem Jogi \n\n Śniadanie w hotelu\n\n\n Przelot z Pokhary do Katmandu\n\n\n\n\nDzień 12 – Zwiedzanie Katmandu.\nTego dnia udamy się na zwiedzanie najbardziej malowniczych i mistycznych miejsc Doliny Katmandu. Zobaczymy m.in. niezwykle urokliwą starówkę Bhaktapur i kompleks Pashupatinath. \nZajęcia Jogi – nasza pożegnalna\, relaksacyjna sesja obędzie się tego dnia w Avata Center w Katmandu. \nDzień 13 – Wylot do Kraju.\nPrzejazd na lotnisko. Wylot do Kraju. \n\n Śniadanie w hotelu\n Transfer na lotnisko\n Przelot Katmandu – Doha – Warszawa\n\n\n\n\n\n\n\n\n\n\n\nRezerwacja miejsc:\nOrganizatorem wyprawy jest AT Animator. Aby otrzymać więcej informacji o organizatorze i wyprawie kliknij tutaj: https://animator.at/oferta/annapurna-trekking-joga. \nZapraszam do rozmowy oraz rezerwacji miejsc mailowo: jucha.joa@gmail.com lub telefonicznie: 604850966. \nGaleria\n 
URL:https://joannajucha.pl/event/nepal/
LOCATION:Tenuta Casabianca\, Str. di Gonfienti 84\, Murlo\, 53016\, Italy
CATEGORIES:Warsztaty
ATTACH;FMTTYPE=image/jpeg:https://joannajucha.pl/wp-content/uploads/2024/10/Projekt-bez-nazwy-105.jpg
END:VEVENT
END:VCALENDAR