BEGIN:VCALENDAR
VERSION:2.0
PRODID:-//Joanna Jucha - ECPv5.16.4//NONSGML v1.0//EN
CALSCALE:GREGORIAN
METHOD:PUBLISH
X-ORIGINAL-URL:https://joannajucha.pl
X-WR-CALDESC:Events for Joanna Jucha
REFRESH-INTERVAL;VALUE=DURATION:PT1H
X-Robots-Tag:noindex
X-PUBLISHED-TTL:PT1H
BEGIN:VTIMEZONE
TZID:Europe/Warsaw
BEGIN:DAYLIGHT
TZOFFSETFROM:+0100
TZOFFSETTO:+0200
TZNAME:CEST
DTSTART:20250330T010000
END:DAYLIGHT
BEGIN:STANDARD
TZOFFSETFROM:+0200
TZOFFSETTO:+0100
TZNAME:CET
DTSTART:20251026T010000
END:STANDARD
END:VTIMEZONE
BEGIN:VEVENT
DTSTART;VALUE=DATE:20250308
DTEND;VALUE=DATE:20250320
DTSTAMP:20260420T164730
CREATED:20251003T123535Z
LAST-MODIFIED:20260302T203317Z
UID:4452-1741392000-1742428799@joannajucha.pl
SUMMARY:Joga na Sri Lance - BRAK MIEJSC
DESCRIPTION:Sri Lanka oznacza w sanskrycie „olśniewający kraj”. To wyspa wielkości ⅕ Polski\, która mieści w sobie świat pełen zachwycającej natury. Zaczniemy naszą podróż od głębi wyspy\, aby poczuć zapach cynamonu\, wanilii i pieprzu\, przejechać pociągiem przez plantacje w  Nuwara Eliya\, skosztować słynnej cejlońskiej herbaty\, zobaczyć dzikie słonie i Lwią Skałę. Będzie to wyprawa podzielona na dwie części. W pierwszej będziemy praktykować Jogę i zwiedzać wyspę\, aby w drugiej części podróży osiąść już nad Oceanem Indyjskim i przez 4 dni cieszyć się rajską plażą oraz poranną i wieczorną praktyką Jogi. \n\n\n\n\nNasza praktyka Jogi będzie nastawiona na regenerację\, będziemy praktykować Jogę wg metody Iyengara. Spokojnie\,  w oparciu o wiedzę o zdrowych zakresach ruchu\, z pracą z oddechem\, z budowaniem świadomości ciała i spokoju w głowie. Tę wyprawę z Jogą przygotowałam we współpracy z Marcinem Szopą i jego biurem AT Animator\, z którym odbyliście naszą pierwszą jogową podróż do Azji z trekkingiem do Annapurna Base Camp. Marcin zadbał o stworzenie dla nas programu\, który pozwoli nam poznać Sri Lankę\, a ja zadbałam o to\, abyśmy w Bentocie\, nad oceanem mieli na pewno dostęp do sali do Jogi i warunki by ta praktyka Jogi miała swoje ważne miejsce na tym wyjeździe. Ani Joga ani zwiedzanie wyspy nie będą tu “przy okazji”. Ten wyjazd ma zaspokoić nasze podróżnicze łaknienie i potrzebę codziennej\, mądrej praktyki Jogi w wyjątkowym miejscu.  \n\n\n\nCena:\n\n2385 USD + 2985 PLN Bilet Lotniczy \nŚwiadczenia: \n\n\nZajęcia Jogi\nNoclegi – zakwaterowanie w pokoju dwuosobowym (dopłata do pokoju 1 os – 645 USD)\nPosiłki na bazie HB (śniadania i obiadokolacje)\nRealizacja programu zwiedzania\nTransport komfortowym\, klimatyzowanym autokarem\nAngielskojęzyczny przewodnik lokalny\nPilot-Przewodnik z Polski\nUbezpieczanie Turystyczne + TFG\, PFG\n\nCena nie zawiera opłaty za wstępy – 145 USD \n\nData:\n1-12 marca 2026 \nPlan podróży:\nDzień 1:\nSpotkanie na lotnisku. Wylot na Sri Lankę (Colombo). \nDzień 2\nPrzylot do Kolombo. Przejazd do Dambulla. Położona w centrum trójkąta kulturowego Sri Lanki jest doskonałą bazą wypadową do zwiedzania historycznych miast tego regionu. \n\n   Kolacja\n   Kraków – Colombo\n   Popołudniowe zajęcia – 1 godz.\n\nDzień 3\nTwierdza Sigiriya Rock. Sirigiya nazywana popularnie Lwią Skałą\, to jedna z najczęściej odwiedzanych atrakcji turystycznych na Sri Lance. Widoczna z daleka\, prawie 200 metrowej wysokości\, magmowa skała\, na szczycie której znajdują się pozostałości mitycznego pałacu. \nPopołudniu Minneriya Jeep Safari. Zwiedzanie Parku Narodowego Minneriya odbywa się w specjalnie przygotowanych do obserwacji zwierząt samochodach 4×4. Przejeżdżając przez park\, zobaczyć można między innymi słonie\, jelenie\, a także będące odmianą jelenia sambary\, zaś przy odrobinie szczęścia drogę przekroczy szukający pożywienia lampart. Występują tutaj również langury\, czyli jeden z rzadkich gatunków małpy. Bogate królestwo ptaków rokrocznie przyciąga tu wielu pasjonatów ornitologii. \n   Śniadanie i kolacja\n   Popołudniowe zajęcia – 1 godz.\nDzień 4\nŚwiątynie w Dambulla. Kompleks świątyń w jaskiniach w Dambulla to jedno z najważniejszych miejsc dla buddystów na Sri Lance. Świątynie znajdujące się w pięciu skalnych grotach były sukcesywnie rozbudowywane i odnawiane\, począwszy od I w. p.n.e. aż do XVIII w. n.e. Na obecny kompleks świątynny w Dambulla składa się 5 jaskiń\, w których znajdują się liczne przedstawienia Buddy\, zarówno posągi\, jak i malowidła naskalne. \nPrzejazd do Matale i dalej do Kandy. Ogród Przypraw Matale. Zapraszamy do aromatycznego świata lankijskich przypraw\, z których słynie region Matale. W trakcie wizyty w ogrodzie będziecie spacerować pośród pachnącej zieleni\, oglądając gałkę muszkatołową\, pieprz\, aloes\, goździki\, wanilię\, cynamon\, kakao\, kurkumę i inne popularne zioła. Odwiedzający mogą nabywać przyprawy\, tradycyjne środki higieniczne i kosmetyki oraz spróbować ziołowych naparów. \n\n   Śniadanie i kolacja\n   Popołudniowe zajęcia – 1 godz.\n\nDzień 5\nWizyta w Świątyni Relikwii Zęba oraz Zwiedzanie Kandy. Świątynia Zęba w Kandy jest częścią kompleksu pałacowego zamieszkiwanego przez kolejnych władców Królestwa Kandy i powstała w 1595 roku jako specjalne miejsce dla najświętszej relikwii\, oznaki najwyższej władzy królewskiej. Do dzisiaj stanowi najważniejsze miejsce pielgrzymek wyznawców buddyzmu i jedno z najczęściej odwiedzanych przez turystów miejsc na Sri lance. \n   Śniadanie i kolacja\n   Popołudniowe zajęcia – 1 godz.\nDzień 6\nPrzejazd pociągiem. Trasa kolejowa z Kandy do Nanu Oya należy do najpiękniejszych na świecie. Wyróżnia się bogactwem i różnorodnością krajobrazów – od gór i wodospadów po plantacje herbaty. \nNuwara-Eliya. Popołudniowe zwiedzanie miasta i wizyta na plantacji herbaty. O regionie zwanym Tea Country mówi się\, że gdzie by nie spojrzeć\, tam zobaczy się plantacje herbaty. Nie bez kozery Brytyjczycy szczególnie umiłowali sobie to miejsce. Stolicą regionu jest miasteczko Nuwara Eliya\, zlokalizowane w odległości około 3 godzin jazdy od miasta Kandy. Jest położone bardzo malowniczo: wokół jeziora na zielonych wzgórzach. Jego wysokość względna to od 600 do 1893 m n.p.m. Miejsce to uchodzi za najchłodniejsze na wyspie\, co ma swoje odzwierciedlenie w pogodzie\, która gwarantuje umiarkowane zachmurzenie. \n   Śniadanie i kolacja\n   Popołudniowe zajęcia – 1 godz.\nDzień 7\nPrzejazd na wybrzeże. Czas na zasłużony odpoczynek. \nDzień 8-10\nPobyt w ośrodku na wybrzeżu. \n   Śniadanie i kolacja\n  Poranne zajęcia – 1\,5 godz. i  popołudniowe zajęcia – 1\,5 godz.\nDzień 11-12\nPrzejazd do Colombo. Zwiedzanie miasta\, czas na zakupy. Przejazd na lotnisko i wylot do Kraju. \nRezerwacja miejsc:\nZapraszam do rozmowy oraz rezerwacji miejsc mailowo: jucha.joa@gmail.com lub telefonicznie: 604850966. \nOrganizatorem wyprawy jest biuro podróży AT Animator. Aby otrzymać więcej informacji o organizatorze kliknij tutaj: https://animator.at/oferta/srilanka-joga \nGaleria
URL:https://joannajucha.pl/event/srilanka/
LOCATION:Tenuta Casabianca\, Str. di Gonfienti 84\, Murlo\, 53016\, Italy
CATEGORIES:Warsztaty
ATTACH;FMTTYPE=image/jpeg:https://joannajucha.pl/wp-content/uploads/2023/12/Projekt-bez-nazwy-137.jpg
END:VEVENT
END:VCALENDAR