BEGIN:VCALENDAR
VERSION:2.0
PRODID:-//Joanna Jucha - ECPv5.16.4//NONSGML v1.0//EN
CALSCALE:GREGORIAN
METHOD:PUBLISH
X-ORIGINAL-URL:https://joannajucha.pl
X-WR-CALDESC:Events for Joanna Jucha
REFRESH-INTERVAL;VALUE=DURATION:PT1H
X-Robots-Tag:noindex
X-PUBLISHED-TTL:PT1H
BEGIN:VTIMEZONE
TZID:Europe/Warsaw
BEGIN:DAYLIGHT
TZOFFSETFROM:+0100
TZOFFSETTO:+0200
TZNAME:CEST
DTSTART:20250330T010000
END:DAYLIGHT
BEGIN:STANDARD
TZOFFSETFROM:+0200
TZOFFSETTO:+0100
TZNAME:CET
DTSTART:20251026T010000
END:STANDARD
END:VTIMEZONE
BEGIN:VEVENT
DTSTART;VALUE=DATE:20251221
DTEND;VALUE=DATE:20251222
DTSTAMP:20260419T231114
CREATED:20240814T173411Z
LAST-MODIFIED:20251121T115340Z
UID:4175-1766275200-1766361599@joannajucha.pl
SUMMARY:Świąteczne Jednodniowe Warsztaty w Dworze Lanckorona
DESCRIPTION:W niedzielę\, 21 grudnia\,  zapraszam na ostatnie w tym roku  Jednodniowe Warsztaty Jogi. Znajdźcie dla siebie czas jeszcze przed świętami i przyjeździe do zimowej Lanckorony. Zapraszam zarówno osoby początkujące jak i te bardziej zaawansowane. Będziemy praktykować w kameralnej grupie\, dlatego możliwa będzie korekta każdego uczestnika. Chciałabym\, aby ten warsztat był czasem w którym możecie zadać pytania\, rozwiać swoje wątpliwości dotyczące techniki wykonywania asan lub po prostu poznać dobrodziejstwo jogi. \nWarsztaty jednodniowe to forma spotkań na których czekają na Was dwie sesje Jogi\, obiad z deserem (doskonała kuchnia Pani Dagmary to jeden z powodów\, dla którego wracacie do Dworu Lanckorona)  i przerwa na spacer po Lanckoronie.  \nNasze sesje Jogi przygotowuję tematycznie tak\, abyście mogli poszerzać swoją wiedzę o Jodze i poczuć\, jak Wasze ciało odnajduje się w konkretnych grupach asan.  Zapraszam!  \n\nCena:\nKoszt warsztatu razem z obiadem wynosi 300 zł.  \nData:\n21 grudnia \nWyżywienie:\nPomiędzy sesjami jogi na uczestników warsztatu czeka wegetariański obiad z deserem. \nHarmonogram:\n11.00 – spotkanie organizacyjne \n11.15 do 12.45 Joga regeneracyjna \n12.45 obiad \n14.30- 16.30 Joga – praktyka warsztatowa wraz z pogłębioną relaksacją \nRezerwacja miejsc :\nAby zarezerwować miejsce \, po uprzednim potwierdzeniu dostępności miejsc\, proszę o wpłatę zadatku w wysokości 150 zł na konto: 36 1020 1433 00001202 0180 9706 z dopiskiem: „Nazwisko-Joga 21 grudnia”.  Zadatek jest bezzwrotny. \nZapraszam do rozmowy oraz rezerwacji miejsc mailowo: jucha.joa@gmail.com lub telefonicznie: 604850966. \n\nGaleria:\n\n 
URL:https://joannajucha.pl/event/jedn/
LOCATION:Dwór Lankorona\, Kazimierza Wielkiego 7\, Lanckorona\, Małopolska\, 34-143\, Poland
CATEGORIES:Warsztaty
ATTACH;FMTTYPE=image/jpeg:https://joannajucha.pl/wp-content/uploads/2024/08/Projekt-bez-nazwy-157.jpg
END:VEVENT
END:VCALENDAR