BEGIN:VCALENDAR
VERSION:2.0
PRODID:-//Joanna Jucha - ECPv5.16.4//NONSGML v1.0//EN
CALSCALE:GREGORIAN
METHOD:PUBLISH
X-WR-CALNAME:Joanna Jucha
X-ORIGINAL-URL:https://joannajucha.pl
X-WR-CALDESC:Events for Joanna Jucha
REFRESH-INTERVAL;VALUE=DURATION:PT1H
X-Robots-Tag:noindex
X-PUBLISHED-TTL:PT1H
BEGIN:VTIMEZONE
TZID:Europe/Warsaw
BEGIN:DAYLIGHT
TZOFFSETFROM:+0100
TZOFFSETTO:+0200
TZNAME:CEST
DTSTART:20240331T010000
END:DAYLIGHT
BEGIN:STANDARD
TZOFFSETFROM:+0200
TZOFFSETTO:+0100
TZNAME:CET
DTSTART:20241027T010000
END:STANDARD
END:VTIMEZONE
BEGIN:VEVENT
DTSTART;VALUE=DATE:20240630
DTEND;VALUE=DATE:20240701
DTSTAMP:20260421T053724
CREATED:20240315T191430Z
LAST-MODIFIED:20240625T110102Z
UID:4113-1719705600-1719791999@joannajucha.pl
SUMMARY:Jednodniowe Warsztaty Jogi w Dworze Lanckorona - BRAK MIEJSC
DESCRIPTION:W niedzielę\, 30 czerwca\, ponownie zapraszam na Jednodniowe Warsztaty Jogi w Lanckoronie. Warsztat odbędzie się w Dworze Lanckorona. Zapraszam zarówno osoby początkujące\, jak i te bardziej zaawansowane. Będziemy praktykować w kameralnej grupie\, dlatego możliwa będzie korekta każdego uczestnika. Chciałabym\, aby ten warsztat był czasem w którym możecie zadać pytania\, rozwiać swoje wątpliwości dotyczące techniki wykonywania asan lub po prostu poznać dobrodziejstwo jogi. \nPomiędzy sesjami jogi na uczestników warsztatu czeka obiad z deserem (doskonała kuchnia Pani Dagmary to jeden z powodów dla którego najczęściej wracacie do Dworu Lanckorona)  i przerwa na spacer po Lanckoronie. \n\nCena:\nKoszt warsztatu wraz z wyżywieniem wynosi 250 zł.  \nData:\n30 czerwca  \nWyżywienie:\nPomiędzy sesjami jogi na uczestników warsztatu czeka wegetariański obiad z deserem. \nHarmonogram:\n12.00 – spotkanie organizacyjne \n12.15-13.45  Joga regeneracyjna \n13.45 obiad \n15.15- 17.15 – praktyka warsztatowa wraz z pogłębioną relaksacją \nRezerwacja miejsc :\nAby zarezerwować miejsce \, po uprzednim potwierdzeniu dostępności miejsc\, proszę o wpłatę zadatku w wysokości 100 zł na konto: 36 1020 1433 00001202 0180 9706 z dopiskiem: „Nazwisko-Joga 30 czerwca”.  Zadatek jest bezzwrotny. \nZapraszam do rozmowy oraz rezerwacji miejsc mailowo: jucha.joa@gmail.com lub telefonicznie: 604850966. \n\nGaleria:\n 
URL:https://joannajucha.pl/event/jednodniowe-warsztaty-jogi-w-dworze-lanckorona-brak-miejsc/
LOCATION:Dwór Lankorona\, Kazimierza Wielkiego 7\, Lanckorona\, Małopolska\, 34-143\, Poland
CATEGORIES:Warsztaty
ATTACH;FMTTYPE=image/jpeg:https://joannajucha.pl/wp-content/uploads/2022/09/Projekt-bez-tytulu-2.jpg
END:VEVENT
END:VCALENDAR