BEGIN:VCALENDAR
VERSION:2.0
PRODID:-//Joanna Jucha - ECPv5.16.4//NONSGML v1.0//EN
CALSCALE:GREGORIAN
METHOD:PUBLISH
X-ORIGINAL-URL:https://joannajucha.pl
X-WR-CALDESC:Events for Joanna Jucha
REFRESH-INTERVAL;VALUE=DURATION:PT1H
X-Robots-Tag:noindex
X-PUBLISHED-TTL:PT1H
BEGIN:VTIMEZONE
TZID:Europe/Warsaw
BEGIN:DAYLIGHT
TZOFFSETFROM:+0100
TZOFFSETTO:+0200
TZNAME:CEST
DTSTART:20240331T010000
END:DAYLIGHT
BEGIN:STANDARD
TZOFFSETFROM:+0200
TZOFFSETTO:+0100
TZNAME:CET
DTSTART:20241027T010000
END:STANDARD
END:VTIMEZONE
BEGIN:VEVENT
DTSTART;VALUE=DATE:20240224
DTEND;VALUE=DATE:20240225
DTSTAMP:20260421T114259
CREATED:20240127T174057Z
LAST-MODIFIED:20240212T105514Z
UID:3804-1708732800-1708819199@joannajucha.pl
SUMMARY:Jednodniowe Warsztaty Jogi w Willi Tadeusz - BRAK MIEJSC
DESCRIPTION:W lutym zapraszam Was na Jednodniowe Warsztaty Jogi również w sobotę 24 lutego\, w Willi Tadeusz. Zapraszam zarówno osoby początkujące\, jak i te bardziej zaawansowane. Będziemy praktykować w kameralnej grupie\, dlatego możliwa będzie korekta każdego uczestnika. Chciałabym\, aby ten warsztat był czasem w którym możecie zadać pytania\, rozwiać swoje wątpliwości dotyczące techniki wykonywania asan lub po prostu poznać dobrodziejstwo jogi. \nW czasie przerwy będziecie mieli czas na spacer wokół lanckorońskiego wzgórza i kawę w Tadeuszowym ogrodzie lub ogrzanie się przy kominku w jadalni. Zapraszam! \nCena:\nKoszt warsztatu wraz z wyżywieniem wynosi 250 zł. \nData:\n24 lutego \nWyżywienie:\nPomiędzy sesjami jogi na uczestników warsztatu czeka wegetariański obiad z deserem i przerwa na spacer po Lanckoronie. \nHarmonogram:\n10.30 – spotkanie organizacyjne \n10.45 do 12.15 Joga regeneracyjna \n12.30 obiad  \n14.30- 16.00 Joga – praktyka warsztatowa wraz z pogłębioną relaksacją \nRezerwacja miejsc :\nAby zarezerwować miejsce \, po uprzednim potwierdzeniu dostępności miejsc\, proszę o wpłatę zadatku w wysokości 100 zł na konto: 36 1020 1433 00001202 0180 9706 z dopiskiem: „Nazwisko-Joga 24 lutego”. \nZapraszam do rozmowy oraz rezerwacji miejsc mailowo: jucha.joa@gmail.com lub telefonicznie: 604850966. \n  \nGaleria:\n 
URL:https://joannajucha.pl/event/jednodniowe-warsztaty-jogi-3/
CATEGORIES:Warsztaty
ATTACH;FMTTYPE=image/jpeg:https://joannajucha.pl/wp-content/uploads/2022/09/Projekt-bez-tytulu-20.jpg
END:VEVENT
BEGIN:VEVENT
DTSTART;VALUE=DATE:20240225
DTEND;VALUE=DATE:20240226
DTSTAMP:20260421T114259
CREATED:20230703T100152Z
LAST-MODIFIED:20240212T105453Z
UID:3907-1708819200-1708905599@joannajucha.pl
SUMMARY:Jednodniowe Warsztaty Jogi w Dworze Lanckorona- BRAK MIEJSC
DESCRIPTION:W niedzielę\, 25 lutego\, ponownie zapraszam na Jednodniowe Warsztaty Jogi w Lanckoronie. Warsztat odbędzie się w Dworze Lanckorona. Zapraszam zarówno osoby początkujące jak i te bardziej zaawansowane. Będziemy praktykować w kameralnej grupie\, dlatego możliwa będzie korekta każdego uczestnika. Chciałabym\, aby ten warsztat był czasem w którym możecie zadać pytania\, rozwiać swoje wątpliwości dotyczące techniki wykonywania asan lub po prostu poznać dobrodziejstwo jogi. \nPomiędzy sesjami jogi na uczestników warsztatu czeka obiad z deserem (doskonała kuchnia Pani Dagmary to jeden z powodów dla którego najczęściej wracacie do Dworu Lanckorona)  i przerwa na spacer po Lanckoronie. \n\nCena:\nKoszt warsztatu razem z obiadem wynosi 250 zł.  \nData:\n25 lutego \nWyżywienie:\nPomiędzy sesjami jogi na uczestników warsztatu czeka wegetariański obiad z deserem. \nHarmonogram:\n11.00 – spotkanie organizacyjne \n11.15 do 12.45 Joga regeneracyjna \n12.45 obiad \n14.30- 16.30 Joga – praktyka warsztatowa wraz z pogłębioną relaksacją \nRezerwacja miejsc :\nAby zarezerwować miejsce \, po uprzednim potwierdzeniu dostępności miejsc\, proszę o wpłatę zadatku w wysokości 100 zł na konto: 36 1020 1433 00001202 0180 9706 z dopiskiem: „Nazwisko-Joga 25.02”.  Zadatek jest bezzwrotny. \nZapraszam do rozmowy oraz rezerwacji miejsc mailowo: jucha.joa@gmail.com lub telefonicznie: 604850966. \nGaleria:\n 
URL:https://joannajucha.pl/event/jednodniowe-warsztaty-jogi-4/
LOCATION:Dwór Lankorona\, Kazimierza Wielkiego 7\, Lanckorona\, Małopolska\, 34-143\, Poland
CATEGORIES:Warsztaty
ATTACH;FMTTYPE=image/jpeg:https://joannajucha.pl/wp-content/uploads/2022/09/Projekt-bez-tytulu-2.jpg
END:VEVENT
END:VCALENDAR