BEGIN:VCALENDAR
VERSION:2.0
PRODID:-//Joanna Jucha - ECPv5.16.4//NONSGML v1.0//EN
CALSCALE:GREGORIAN
METHOD:PUBLISH
X-ORIGINAL-URL:https://joannajucha.pl
X-WR-CALDESC:Events for Joanna Jucha
REFRESH-INTERVAL;VALUE=DURATION:PT1H
X-Robots-Tag:noindex
X-PUBLISHED-TTL:PT1H
BEGIN:VTIMEZONE
TZID:Europe/Warsaw
BEGIN:DAYLIGHT
TZOFFSETFROM:+0100
TZOFFSETTO:+0200
TZNAME:CEST
DTSTART:20260329T010000
END:DAYLIGHT
BEGIN:STANDARD
TZOFFSETFROM:+0200
TZOFFSETTO:+0100
TZNAME:CET
DTSTART:20261025T010000
END:STANDARD
END:VTIMEZONE
BEGIN:VEVENT
DTSTART;VALUE=DATE:20260508
DTEND;VALUE=DATE:20260511
DTSTAMP:20260419T202302
CREATED:20260211T154802Z
LAST-MODIFIED:20260213T094753Z
UID:4529-1778198400-1778457599@joannajucha.pl
SUMMARY:Weekend z Jogą Bliżej Nieba
DESCRIPTION:Na majowy warsztat w tym roku zaproszę Was w nowe miejsce\, polecane mi już wielokrotnie z tak wielu źródeł\, że w końcu przyszedł na nie najlepszy\, bo wiosenny\, czas. \nBliżej Nieba mieści się w urokliwej miejscowości Skrzydlna w województwie małopolskim 50 km od Krakowa. Widoki z okien pokoi rozpościerają się na Śnieżnicę – szczyt Beskidu Wyspowego oraz na przepiękną panoramę gór. Bliżej nieba ma wszystkie udogodnienia\, które lubicie na warsztatach\, czyli doskonałą kuchnię\, saunę\, jacuzzi i SPA z dostępnymi masażami. Będziemy praktykować Jogę niespiesznie\, regenerująco i z uważnością\, ale bez zadęcia. Z radością bycia na macie. Będzie to połączenie Jogi Iyengara\, Vinyasy i elementów techniki Pilates. Tak\, abyście wrócili z Bliżej nieba zregenerowani\, poruszeni w ciele\, spokojni w głowie i nowym zapasem sił.  \nBliżej nieba i wiosna w pełnym rozkwicie. Przybywajcie! \nCena:\nKoszt wyjazdu od piątku do niedzieli to 1360 zł.   \nData:\n8-10 maja \nMiejsce:\nWarsztat odbędzie się w siedlisku Bliżej Nieba. Szczegółowy opis miejsca możecie znaleźć tutaj: https://blizejnieba.eu/ \nWyżywienie:\nW cenie zawarte jest śniadanie\, zupa w środku dnia i kolacja. Rozpoczynamy obiadokolacją w piątek i kończymy śniadaniem w niedzielę. \nWarsztat Jogi :\nNasza praktyka Jogi będzie nastawiona na regenerację\, będziemy praktykować Jogę wg metody Iyengara. Spokojnie\,  w oparciu o wiedzę o zdrowych zakresach ruchu\, z pracą z oddechem\, z budowaniem świadomości ciała i spokoju w głowie\, ale bez ezoteryki.  W Jodze Iyengara korzystamy z pomocy do Jogi\, aby zachować prawidłowe ułożenie ciała w momentach\, kiedy nie mamy jeszcze pełnych zakresów ruchu. W moje zajęcia wplatam również elementy Vinyasa Jogi oraz Pilatesu. Jestem nauczycielką certyfikowaną przez International Integral Yoga Institute oraz certyfikowaną instruktorką metody Pilates. Praktykuję Jogę od 15 lat\, uczę jej od 8 lat. Chcę\, abyście przede wszystkim czuli się na macie dobrze\, bez zadęcia\, z uważnością\, ale niech mata będzie też miejscem\, aby leżeć na niej  ze śmiechu. \nHarmonogram:\nPIĄTEK\n\nod 16.00 przyjazd\n18.00 obiadokolacja\n20.00-21.30 Joga regeneracyjna\n\n\nSOBOTA\n\n7.45-9.00 Joga\n9.00 śniadanie\n14.00 zupa\n\n16.00-18.00 Joga\n18.00 obiadokolacja\n20.00 masaż ajurwedyjski głowy i ramion (razem)\n\nNIEDZIELA\n8.00 śniadanie\n10.00-11.30 Joga \npo Jodze wyjazd\nDojazd:\nDojazd we własnym zakresie. \nRezerwacja miejsc :\nAby zarezerwować miejsce na warsztacie\, po uprzednim potwierdzeniu dostępności miejsc\, proszę o wpłatę zadatku w wysokości 645 zł na konto: Joanna Jucha numer rachunku: 36 1020 1433 00001202 0180 9706 z dopiskiem „Nazwisko- Bliżej nieba”. Gdybyście chcieli otrzymać ode mnie fakturę za zajęcia\, proszę\, napiszcie to zanim wpłacicie zadatek.  W innym wypadku od razu po otrzymaniu przelewu wystawiam paragon i nie mogę wystawić już faktury. Zadatek jest bezzwrotny. \nZapraszam do rozmowy oraz rezerwacji miejsc mailowo: jucha.joa@gmail.com lub telefonicznie: 604850966. \nGaleria:\n 
URL:https://joannajucha.pl/event/blizejnieba/
LOCATION:Bliżej Nieba\, Wola Skrzydlańska 128\, Skrzydlna\, 34-625
CATEGORIES:Warsztaty
ATTACH;FMTTYPE=image/jpeg:https://joannajucha.pl/wp-content/uploads/2026/02/Projekt-bez-nazwy-17.jpg
END:VEVENT
END:VCALENDAR