BEGIN:VCALENDAR
VERSION:2.0
PRODID:-//Joanna Jucha - ECPv5.16.4//NONSGML v1.0//EN
CALSCALE:GREGORIAN
METHOD:PUBLISH
X-WR-CALNAME:Joanna Jucha
X-ORIGINAL-URL:https://joannajucha.pl
X-WR-CALDESC:Events for Joanna Jucha
REFRESH-INTERVAL;VALUE=DURATION:PT1H
X-Robots-Tag:noindex
X-PUBLISHED-TTL:PT1H
BEGIN:VTIMEZONE
TZID:Europe/Warsaw
BEGIN:DAYLIGHT
TZOFFSETFROM:+0100
TZOFFSETTO:+0200
TZNAME:CEST
DTSTART:20260329T010000
END:DAYLIGHT
BEGIN:STANDARD
TZOFFSETFROM:+0200
TZOFFSETTO:+0100
TZNAME:CET
DTSTART:20261025T010000
END:STANDARD
END:VTIMEZONE
BEGIN:VEVENT
DTSTART;VALUE=DATE:20260426
DTEND;VALUE=DATE:20260427
DTSTAMP:20260419T180537
CREATED:20251202T180352Z
LAST-MODIFIED:20260402T193432Z
UID:4506-1777161600-1777247999@joannajucha.pl
SUMMARY:Jednodniowe Warsztaty Jogi - 26.04\, 16.05
DESCRIPTION:W każdym miesiącu\, w jeden z wolnych dni weekendu\,  zapraszam na  Jednodniowe Warsztaty Jogi w Lanckoronie. Warsztaty odbywają się cyklicznie w Dworze Lanckorona. Zapraszam zarówno osoby początkujące jak i te bardziej zaawansowane. Chciałabym\, aby ten warsztat był czasem w którym możecie zadać pytania\, rozwiać swoje wątpliwości dotyczące techniki wykonywania asan lub po prostu poznać dobrodziejstwo jogi. Będziemy praktykować w kameralnej grupie\, dlatego możliwa będzie korekta każdego uczestnika. Warsztaty jednodniowe to forma spotkań na których czekają na Was dwie sesje Jogi\, obiad z deserem (doskonała kuchnia Pani Dagmary to jeden z powodów\, dla którego wracacie do Dworu Lanckorona)  i przerwa na spacer po Lanckoronie.  \nNasze sesje Jogi przygotowuję tematycznie tak\, abyście mogli poszerzać swoją wiedzę o Jodze i poczuć\, jak Wasze ciało odnajduje się w konkretnych grupach asan.  Zapraszam!  \n\nCena:\nKoszt warsztatu razem z obiadem wynosi 300 zł.  \nData:\n26 kwietnia (niedziela) i 16 maja (sobota) \nWyżywienie:\nPomiędzy sesjami jogi na uczestników warsztatu czeka wegetariański obiad z deserem. \nHarmonogram:\n11.00 – spotkanie organizacyjne \n11.15 do 12.45 Joga regeneracyjna \n12.45 obiad \n14.30- 16.30 Joga – praktyka warsztatowa wraz z pogłębioną relaksacją \nRezerwacja miejsc :\nAby zarezerwować miejsce \, po uprzednim potwierdzeniu dostępności miejsc\, proszę o wpłatę zadatku w wysokości 150 zł na konto: 36 1020 1433 00001202 0180 9706 z dopiskiem: „Nazwisko i data warsztatu”.  Zadatek jest bezzwrotny. \nZapraszam do rozmowy oraz rezerwacji miejsc mailowo: jucha.joa@gmail.com lub telefonicznie: 604850966. \nGaleria:\n 
URL:https://joannajucha.pl/event/jednodniowe-warsztaty-jogi-lanckorona/
LOCATION:Dwór Lankorona\, Kazimierza Wielkiego 7\, Lanckorona\, Małopolska\, 34-143\, Poland
CATEGORIES:Warsztaty
ATTACH;FMTTYPE=image/jpeg:https://joannajucha.pl/wp-content/uploads/2024/03/Projekt-bez-nazwy-136-e1769788818806.jpg
END:VEVENT
END:VCALENDAR