BEGIN:VCALENDAR
VERSION:2.0
PRODID:-//Joanna Jucha - ECPv5.16.4//NONSGML v1.0//EN
CALSCALE:GREGORIAN
METHOD:PUBLISH
X-ORIGINAL-URL:https://joannajucha.pl
X-WR-CALDESC:Events for Joanna Jucha
REFRESH-INTERVAL;VALUE=DURATION:PT1H
X-Robots-Tag:noindex
X-PUBLISHED-TTL:PT1H
BEGIN:VTIMEZONE
TZID:Europe/Warsaw
BEGIN:DAYLIGHT
TZOFFSETFROM:+0100
TZOFFSETTO:+0200
TZNAME:CEST
DTSTART:20260329T010000
END:DAYLIGHT
BEGIN:STANDARD
TZOFFSETFROM:+0200
TZOFFSETTO:+0100
TZNAME:CET
DTSTART:20261025T010000
END:STANDARD
END:VTIMEZONE
BEGIN:VEVENT
DTSTART;VALUE=DATE:20260306
DTEND;VALUE=DATE:20260309
DTSTAMP:20260419T200831
CREATED:20260302T203226Z
LAST-MODIFIED:20260302T203226Z
UID:4584-1772755200-1773014399@joannajucha.pl
SUMMARY:Weekend z Jogą w Willi Tadeusz
DESCRIPTION:Zapraszam na wiosenny warsztat do Willi Tadeusz.  Chcę byśmy praktykowali Jogę w połączeniu z tą piękną naturą\, która nas tutaj otoczy. Będziemy praktykować z radością bycia na macie\, z poszanowaniem dla anatomii i  zdrowych zakresów ruchu. Mądrze\, bez zadęcia i bez instagramowej ezoteryki. We wspaniałej sali werandowej\, pachnącej drewnem i z widokiem na las. \nZaszyjemy się w Willi Tadeusz od piątku do niedzieli 6-8 marca. Lanckorona ma swój niepowtarzalny urok. Jest cicho\, spokojnie\, a okna Waszych pokoi mają widok na ogromne drzewa. Właściciele są psiolubni\, zapraszam więc z Waszymi zwierzętami. \n Warsztaty w Willi Tadeusz to już tradycja\, Lanckoronę i Willę znacie w większości doskonale. Przybywajcie!  \nCena:\nKoszt pobytu z wyżywieniem i warsztatem Jogi od piątku do niedzieli to 1070 zł. Brak dopłaty za zwierzęta.  \nData:\n6-8 marca  \nMiejsce:\nWarsztat odbędzie się w Willi Tadeusz. Mamy do dyspozycji pokoje dwuosobowe oraz wspólne łazienki. \nWyżywienie:\nW cenie zawarte są śniadania oraz obiadokolacje. Rozpoczynamy obiadokolacją w piątek i kończymy śniadaniem w niedzielę. Wieść o kuchni Willi Tadeusz niesie się daleko i szeroko. Gotują domowo\, pysznie i możecie wybrać zarówno dania mięsne jak i wegetariańskie. \nWarsztat Jogi :\nNasza praktyka Jogi będzie nastawiona na regenerację\, będziemy praktykować Jogę wg metody Iyengara. Spokojnie\,  w oparciu o wiedzę o zdrowych zakresach ruchu\, z pracą z oddechem\, z budowaniem świadomości ciała i spokoju w głowie\, ale bez ezoteryki. W Jodze Iyengara korzystamy z pomocy do Jogi\, aby zachować prawidłowe ułożenie ciała w momentach\, kiedy nie mamy jeszcze pełnych zakresów ruchu. W moje zajęcia wplatam również elementy Vinyasa Jogi oraz Pilatesu. Jestem nauczycielką certyfikowaną przez International Integral Yoga Institute oraz certyfikowaną instruktorką metody Pilates. Praktykuję Jogę od 15 lat\, uczę jej od 8 lat. Chcę\, abyście przede wszystkim czuli się na macie dobrze\, bez zadęcia\, z uważnością\, ale niech mata będzie też miejscem\, aby leżeć na niej  ze śmiechu. \nHarmonogram:\nPIĄTEK \n\nod 16.00 możliwy przyjazd\n18.00 obiadokolacja\n19.30-21.00 Joga regeneracyjna\n\n\nSOBOTA\n\n8.30 – 10.00 Joga\n10.00 śniadanie\n16.00-18.00 Joga z pogłębioną relaksacją\n\n18.30 obiadokolacja\n20.00 masaż ajurwedyjski głowy i ramion\n\nNIEDZIELA\n8.30 – 10.00 Joga\n10.00 śniadanie\n\nDojazd:\nDojazd we własnym zakresie. \nRezerwacja miejsc :\nAby zarezerwować miejsce na warsztacie\, po uprzednim potwierdzeniu dostępności miejsc\, proszę o wiadomość mailową: jucha.joa@gmail.com lub kontakt telefoniczny: 604850966. \nGaleria:\n 
URL:https://joannajucha.pl/event/weekend-z-joga-w-willi-tadeusz-2/
LOCATION:willa tadeusz\, Legionistów 1\, Lanckorona\, Małopolskie\, 34-143\, Poland
CATEGORIES:Warsztaty
ATTACH;FMTTYPE=image/jpeg:https://joannajucha.pl/wp-content/uploads/2022/09/Projekt-bez-nazwy-82.jpg
END:VEVENT
END:VCALENDAR