BEGIN:VCALENDAR
VERSION:2.0
PRODID:-//Joanna Jucha - ECPv5.16.4//NONSGML v1.0//EN
CALSCALE:GREGORIAN
METHOD:PUBLISH
X-ORIGINAL-URL:https://joannajucha.pl
X-WR-CALDESC:Events for Joanna Jucha
REFRESH-INTERVAL;VALUE=DURATION:PT1H
X-Robots-Tag:noindex
X-PUBLISHED-TTL:PT1H
BEGIN:VTIMEZONE
TZID:Europe/Warsaw
BEGIN:DAYLIGHT
TZOFFSETFROM:+0100
TZOFFSETTO:+0200
TZNAME:CEST
DTSTART:20250330T010000
END:DAYLIGHT
BEGIN:STANDARD
TZOFFSETFROM:+0200
TZOFFSETTO:+0100
TZNAME:CET
DTSTART:20251026T010000
END:STANDARD
END:VTIMEZONE
BEGIN:VEVENT
DTSTART;VALUE=DATE:20250814
DTEND;VALUE=DATE:20250815
DTSTAMP:20260420T075147
CREATED:20250722T124430Z
LAST-MODIFIED:20250813T102200Z
UID:4402-1755129600-1755215999@joannajucha.pl
SUMMARY:Joga na kolację nad Jeziorem Mucharskim
DESCRIPTION:Zapraszam na Jogę na kolację do Przystani Oblasek. Chciałabym wykorzystać letnie\, plenerowe możliwości i zaprosić Was na praktykę Jogi z widokiem na zachodzące nad Jeziorem Mucharskim słońce. Po sesji Jogi będzie na nas czekała kolacja przygotowana przez Smaki Gościńca. Na Jogę na kolację nad Jeziorem Mucharskim zapraszam w czwartek – 14 sierpnia. \nJeśli pogoda będzie miała dla nas inny plan i zacznie padać deszcz – wydarzenie zostanie odwołane\, a Wasze zadatki zwrócone.  \nMiejsce:\nPrzystań Oblasek to urocze miejsce\, w tej cichszej części Jeziora Mucharskiego. Smaki Gościńca mają tu swoją letnią siedzibę i przygotują dla nas kolację. To nasza lokalna spółdzielnia dobrego smaku\, która przygotowuje swoje dania z regionalnych produktów. \nCena:\nKoszt sesji Jogi i kolacji wynosi 120 zł. \nData:\n14 sierpnia \nHarmonogram:\n18.00-19.30 Joga\n19.30 kolacja\nRezerwacja miejsc :\nAby zarezerwować miejsce \, po uprzednim potwierdzeniu dostępności miejsc w wybranym terminie\, proszę o wpłatę zadatku w wysokości 75 zł na konto: 36 1020 1433 00001202 0180 9706 z dopiskiem: „Nazwisko-Joga 14.08″ \nZapraszam do rozmowy oraz rezerwacji miejsc mailowo: jucha.joa@gmail.com lub telefonicznie: 604850966. \nGaleria:\n 
URL:https://joannajucha.pl/event/joga-na-kolacje-nad-jeziorem-mucharskim/
LOCATION:Przystań Oblasek\, Dąbrówka 145\, Stryszów\, małopolskie\, Poland
CATEGORIES:Warsztaty
ATTACH;FMTTYPE=image/jpeg:https://joannajucha.pl/wp-content/uploads/2025/07/Projekt-bez-nazwy-130.jpg
END:VEVENT
END:VCALENDAR