BEGIN:VCALENDAR
VERSION:2.0
PRODID:-//Joanna Jucha - ECPv5.16.4//NONSGML v1.0//EN
CALSCALE:GREGORIAN
METHOD:PUBLISH
X-ORIGINAL-URL:https://joannajucha.pl
X-WR-CALDESC:Events for Joanna Jucha
REFRESH-INTERVAL;VALUE=DURATION:PT1H
X-Robots-Tag:noindex
X-PUBLISHED-TTL:PT1H
BEGIN:VTIMEZONE
TZID:Europe/Warsaw
BEGIN:DAYLIGHT
TZOFFSETFROM:+0100
TZOFFSETTO:+0200
TZNAME:CEST
DTSTART:20250330T010000
END:DAYLIGHT
BEGIN:STANDARD
TZOFFSETFROM:+0200
TZOFFSETTO:+0100
TZNAME:CET
DTSTART:20251026T010000
END:STANDARD
END:VTIMEZONE
BEGIN:VEVENT
DTSTART;VALUE=DATE:20250214
DTEND;VALUE=DATE:20250217
DTSTAMP:20260420T224519
CREATED:20220907T100915Z
LAST-MODIFIED:20250207T122924Z
UID:3750-1739491200-1739750399@joannajucha.pl
SUMMARY:Weekend z Jogą w Miłośliwce-BRAK MIEJSC
DESCRIPTION:W lutym zapraszam na warsztat Jogi do Chaty Miłośliwka. W Miłośliwce byłam pierwszy raz 4 lata temu i zachwyciłam się jej lokalizacją. Jest położona w górach\, w Beskidzie Sądeckim\, ale nie w górach obok asfaltu i banerów z karkówką\, ale w takich górach\, gdzie będziecie słyszeć tylko las\, a na miejsce wywiozą nas właściciele terenowym samochodem lub też dotrzecie tam spacerem (przez śniegi\, jak mniemam\, w lutym).  Samochody zostawimy bezpiecznie na parkingu na dole i wyruszymy na trzy dni pełne Jogi i chwil z kubkiem herbaty przy kominku z widokiem  na zimowy Beskid. Będziemy praktykować tak\, abyście mogli poczuć swoje ciało i jego potrzeby\, a po Jodze ogrzać się dostępną na miejscu sauną. \nCena:\nKoszt pobytu razem z warsztatem to 1040 zł.  \nData:\n14-16 lutego \nMiejsce:\nMamy dostępnych 5 pokoi dwuosobowych i 2 pokoje trzyosobowe oraz 5 łazienek. Przestrzeń składa się również z pięknej Sali do Jogi\, z ogromnymi oknami wychodzącymi na sad i tarasami z widokiem na góry. Czeka na Was również sauna i górskie szlaki zaraz po wyjściu z Miłośliwki. \nWyżywienie:\nW cenie zawarte są następujące posiłki: obiadokolacja w dniu przyjazdu\, śniadanie\, lunch i obiadokolacja w sobotę oraz śniadanie w niedzielę. \nWarsztat Jogi :\nNasza praktyka Jogi będzie nastawiona na regenerację\, będziemy praktykować Jogę wg metody Iyengara. Spokojnie\, w oparciu o wiedzę o zdrowych zakresach ruchu\, z pracą z oddechem\, z budowaniem świadomości ciała i spokoju w głowie\, ale bez ezoteryki. Joga metodą Iyengara to bardziej statyczna forma Jogi\, w której dbamy o precyzję asan i dłużej trwamy w pozycjach. W Jodze Iyengara korzystamy z pomocy do Jogi\, aby zachować prawidłowe ułożenie ciała w momentach\, kiedy nie mamy jeszcze pełnych zakresów ruchu. W moje zajęcia wplatam również elementy Vinyasa Jogi oraz Pilatesu. Jestem nauczycielką certyfikowaną przez International Integral Yoga Institute oraz certyfikowaną instruktorką metody Pilates. Praktykuję Jogę od 12 lat\, uczę jej od 5 lat. Prowadzę Jogę z uważnością na Wasze potrzeby\, napięcia w ciele\, Jogę pełną radości\, która ma za zadanie zregenerować Was i wzmocnić.\nHarmonogram: (harmonogram może ulec nieznacznym godzinowym przesunięciom)\nPIĄTEK\n\nod 16.00 przyjazd\n\n18.00 obiadokolacja\n19.30 – 21.00 Joga\n\nSOBOTA\n\n\n8.30-10.00 Joga\n10.00 śniadanie\n14.00 obiad\n\n16.30-18.00 Joga\n18.00 kolacja\n\n19.30 – 20.30 masaż ajurwedyjski głowy i ramion (razem)\n\nNIEDZIELA\n8.30-10.00- Joga\n10.00 śniadanie\ndo 12.00 wyjazd\nDojazd:\nDojazd we własnym zakresie. Docieracie na miłośliwkowy parking\, z którego razem z bagażem właściciele wywiozą nas na górę. Możecie również przejść te drogę spacerem. \nRezerwacja miejsc :\nAby zarezerwować miejsce\, po uprzednim potwierdzeniu dostępności\, proszę o wpłatę zadatku w wysokości 480 zł\, z tytułem przelewu: „Nazwisko- Joga Miłośliwka” na konto: Joanna Jucha numer rachunku: 36 1020 1433 00001202 0180 9706 (Jeśli chcielibyście otrzymać ode mnie fakturę za zajęcia\, proszę\, napiszcie to\, zanim wpłacicie zaliczkę. W innym wypadku od razu po otrzymaniu przelewu wystawiam paragon i nie mogę wystawić już faktury.) Zadatek jest bezzwrotny. \nZapraszam do rozmowy oraz rezerwacji miejsc mailowo: jucha.joa@gmail.com lub telefonicznie: 604850966. \nFirma Joanna Jucha odpowiada wyłącznie za zorganizowanie i przeprowadzenie zajęć Jogi. Organizacją zakwaterowania i wyżywienia zajmuje się Chata Miłośliwka.  \nGaleria:\n 
URL:https://joannajucha.pl/event/milo/
LOCATION:Chata Miłośliwka\, Czerniec 34\, Czerniec\, Małopolskie\, 33-390
CATEGORIES:Warsztaty
ATTACH;FMTTYPE=image/jpeg:https://joannajucha.pl/wp-content/uploads/2022/09/Projekt-bez-nazwy-110.jpg
END:VEVENT
END:VCALENDAR